BEGIN:VCALENDAR
VERSION:2.0
PRODID:-//Yoppy - ECPv6.15.20//NONSGML v1.0//EN
CALSCALE:GREGORIAN
METHOD:PUBLISH
X-WR-CALNAME:Yoppy
X-ORIGINAL-URL:https://yoppy.ae
X-WR-CALDESC:Events for Yoppy
REFRESH-INTERVAL;VALUE=DURATION:PT1H
X-Robots-Tag:noindex
X-PUBLISHED-TTL:PT1H
BEGIN:VTIMEZONE
TZID:Asia/Dubai
BEGIN:STANDARD
TZOFFSETFROM:+0400
TZOFFSETTO:+0400
TZNAME:+04
DTSTART:20250101T000000
END:STANDARD
END:VTIMEZONE
BEGIN:VEVENT
DTSTART;TZID=Asia/Dubai:20260322T103000
DTEND;TZID=Asia/Dubai:20260322T113000
DTSTAMP:20260422T113320
CREATED:20260217T194538Z
LAST-MODIFIED:20260217T194848Z
UID:10000438-1774175400-1774179000@yoppy.ae
SUMMARY:Puppy Yoga | March 22nd @ 10.30am | Ladies Only
DESCRIPTION:
URL:https://yoppy.ae/event/puppy-yoga-march-22nd-10-30pm-ladies-only/
LOCATION:Herinox Studios\, Herinox Studios\, Dubai\, United Arab Emirates
CATEGORIES:Puppy Yoga
ATTACH;FMTTYPE=image/jpeg:https://yoppy.ae/wp-content/uploads/2025/05/1.jpg
END:VEVENT
BEGIN:VEVENT
DTSTART;TZID=Asia/Dubai:20260322T120000
DTEND;TZID=Asia/Dubai:20260322T130000
DTSTAMP:20260422T113320
CREATED:20260217T195202Z
LAST-MODIFIED:20260217T195202Z
UID:10000439-1774180800-1774184400@yoppy.ae
SUMMARY:Puppy Yoga | March 22nd @ 12.00pm | Mixed
DESCRIPTION:
URL:https://yoppy.ae/event/puppy-yoga-march-22nd-12-00pm-mixed/
LOCATION:Herinox Studios\, Herinox Studios\, Dubai\, United Arab Emirates
CATEGORIES:Puppy Yoga
ATTACH;FMTTYPE=image/jpeg:https://yoppy.ae/wp-content/uploads/2025/05/1.jpg
END:VEVENT
BEGIN:VEVENT
DTSTART;TZID=Asia/Dubai:20260328T160000
DTEND;TZID=Asia/Dubai:20260328T170000
DTSTAMP:20260422T113320
CREATED:20260217T201145Z
LAST-MODIFIED:20260217T201146Z
UID:10000442-1774713600-1774717200@yoppy.ae
SUMMARY:Puppy Yoga | March 28th @ 4.00pm | Mixed
DESCRIPTION:
URL:https://yoppy.ae/event/puppy-yoga-march-28th-4-00pm-mixed/
LOCATION:Herinox Studios\, Herinox Studios\, Dubai\, United Arab Emirates
CATEGORIES:Puppy Yoga
ATTACH;FMTTYPE=image/jpeg:https://yoppy.ae/wp-content/uploads/2025/05/1.jpg
END:VEVENT
BEGIN:VEVENT
DTSTART;TZID=Asia/Dubai:20260328T173000
DTEND;TZID=Asia/Dubai:20260328T183000
DTSTAMP:20260422T113320
CREATED:20260217T201434Z
LAST-MODIFIED:20260217T201434Z
UID:10000443-1774719000-1774722600@yoppy.ae
SUMMARY:Puppy Yoga | March 28th @ 5.30pm | Mixed
DESCRIPTION:
URL:https://yoppy.ae/event/puppy-yoga-march-28th-5-30pm-mixed/
LOCATION:Herinox Studios\, Herinox Studios\, Dubai\, United Arab Emirates
CATEGORIES:Puppy Yoga
ATTACH;FMTTYPE=image/jpeg:https://yoppy.ae/wp-content/uploads/2025/05/1.jpg
END:VEVENT
BEGIN:VEVENT
DTSTART;TZID=Asia/Dubai:20260405T103000
DTEND;TZID=Asia/Dubai:20260405T113000
DTSTAMP:20260422T113320
CREATED:20260321T160753Z
LAST-MODIFIED:20260331T065117Z
UID:10000444-1775385000-1775388600@yoppy.ae
SUMMARY:Puppy Yoga | April 5th @ 10.30am | Ladies Only
DESCRIPTION:
URL:https://yoppy.ae/event/puppy-yoga-april-5th-10-30am-ladies-only/
LOCATION:Alura\, 1\, 17 - Villa 1 Al Meydan Rd - Al Quoz - Al Quoz 1\, Dubai\, United Arab Emirates
CATEGORIES:Puppy Yoga
ATTACH;FMTTYPE=image/jpeg:https://yoppy.ae/wp-content/uploads/2025/05/1.jpg
END:VEVENT
BEGIN:VEVENT
DTSTART;TZID=Asia/Dubai:20260405T120000
DTEND;TZID=Asia/Dubai:20260405T130000
DTSTAMP:20260422T113320
CREATED:20260321T161112Z
LAST-MODIFIED:20260321T161112Z
UID:10000445-1775390400-1775394000@yoppy.ae
SUMMARY:Puppy Yoga | April 5th @ 12.00pm | Mixed
DESCRIPTION:
URL:https://yoppy.ae/event/puppy-yoga-april-5th-12-00pm-mixed/
LOCATION:Alura\, 1\, 17 - Villa 1 Al Meydan Rd - Al Quoz - Al Quoz 1\, Dubai\, United Arab Emirates
CATEGORIES:Puppy Yoga
ATTACH;FMTTYPE=image/jpeg:https://yoppy.ae/wp-content/uploads/2025/05/1.jpg
END:VEVENT
BEGIN:VEVENT
DTSTART;TZID=Asia/Dubai:20260405T133000
DTEND;TZID=Asia/Dubai:20260405T143000
DTSTAMP:20260422T113320
CREATED:20260321T161342Z
LAST-MODIFIED:20260321T161342Z
UID:10000446-1775395800-1775399400@yoppy.ae
SUMMARY:Puppy Yoga | April 5th @ 1.30pm | Mixed
DESCRIPTION:
URL:https://yoppy.ae/event/puppy-yoga-april-5th-1-30pm-mixed/
LOCATION:Alura\, 1\, 17 - Villa 1 Al Meydan Rd - Al Quoz - Al Quoz 1\, Dubai\, United Arab Emirates
CATEGORIES:Puppy Yoga
ATTACH;FMTTYPE=image/jpeg:https://yoppy.ae/wp-content/uploads/2025/05/1.jpg
END:VEVENT
BEGIN:VEVENT
DTSTART;TZID=Asia/Dubai:20260411T140000
DTEND;TZID=Asia/Dubai:20260411T150000
DTSTAMP:20260422T113320
CREATED:20260321T161825Z
LAST-MODIFIED:20260321T161825Z
UID:10000447-1775916000-1775919600@yoppy.ae
SUMMARY:Puppy Yoga | April 11th @ 2:00pm | Ladies Only
DESCRIPTION:
URL:https://yoppy.ae/event/puppy-yoga-april-11th-200pm-ladies-only/
LOCATION:Herinox Studios\, Herinox Studios\, Dubai\, United Arab Emirates
CATEGORIES:Puppy Yoga
ATTACH;FMTTYPE=image/jpeg:https://yoppy.ae/wp-content/uploads/2025/05/1.jpg
END:VEVENT
BEGIN:VEVENT
DTSTART;TZID=Asia/Dubai:20260411T153000
DTEND;TZID=Asia/Dubai:20260411T163000
DTSTAMP:20260422T113320
CREATED:20260321T162041Z
LAST-MODIFIED:20260321T162041Z
UID:10000448-1775921400-1775925000@yoppy.ae
SUMMARY:Puppy Yoga | April 11th @ 3:30pm | Mixed
DESCRIPTION:
URL:https://yoppy.ae/event/puppy-yoga-april-11th-330pm-mixed/
LOCATION:Herinox Studios\, Herinox Studios\, Dubai\, United Arab Emirates
CATEGORIES:Puppy Yoga
ATTACH;FMTTYPE=image/jpeg:https://yoppy.ae/wp-content/uploads/2025/05/1.jpg
END:VEVENT
BEGIN:VEVENT
DTSTART;TZID=Asia/Dubai:20260419T103000
DTEND;TZID=Asia/Dubai:20260419T113000
DTSTAMP:20260422T113320
CREATED:20260321T162626Z
LAST-MODIFIED:20260321T162626Z
UID:10000450-1776594600-1776598200@yoppy.ae
SUMMARY:Puppy Yoga | April 19th @ 10:30am | Ladies Only
DESCRIPTION:
URL:https://yoppy.ae/event/puppy-yoga-april-19th-1030am-ladies-only/
LOCATION:Herinox Studios\, Herinox Studios\, Dubai\, United Arab Emirates
CATEGORIES:Puppy Yoga
ATTACH;FMTTYPE=image/jpeg:https://yoppy.ae/wp-content/uploads/2025/05/1.jpg
END:VEVENT
BEGIN:VEVENT
DTSTART;TZID=Asia/Dubai:20260419T120000
DTEND;TZID=Asia/Dubai:20260419T130000
DTSTAMP:20260422T113320
CREATED:20260321T162917Z
LAST-MODIFIED:20260321T162917Z
UID:10000451-1776600000-1776603600@yoppy.ae
SUMMARY:Puppy Yoga | April 19th @ 12:00pm | Mixed
DESCRIPTION:
URL:https://yoppy.ae/event/puppy-yoga-april-19th-1200pm-mixed/
LOCATION:Herinox Studios\, Herinox Studios\, Dubai\, United Arab Emirates
CATEGORIES:Puppy Yoga
ATTACH;FMTTYPE=image/jpeg:https://yoppy.ae/wp-content/uploads/2025/05/1.jpg
END:VEVENT
BEGIN:VEVENT
DTSTART;TZID=Asia/Dubai:20260425T113000
DTEND;TZID=Asia/Dubai:20260425T123000
DTSTAMP:20260422T113320
CREATED:20260321T163513Z
LAST-MODIFIED:20260321T163513Z
UID:10000453-1777116600-1777120200@yoppy.ae
SUMMARY:Puppy Yoga | April 25th @ 11.30am | Ladies Only
DESCRIPTION:
URL:https://yoppy.ae/event/puppy-yoga-april-25th-11-30am-ladies-only/
LOCATION:Herinox Studios\, Herinox Studios\, Dubai\, United Arab Emirates
CATEGORIES:Puppy Yoga
ATTACH;FMTTYPE=image/jpeg:https://yoppy.ae/wp-content/uploads/2025/05/1.jpg
END:VEVENT
BEGIN:VEVENT
DTSTART;TZID=Asia/Dubai:20260425T130000
DTEND;TZID=Asia/Dubai:20260425T140000
DTSTAMP:20260422T113320
CREATED:20260321T163805Z
LAST-MODIFIED:20260321T164135Z
UID:10000454-1777122000-1777125600@yoppy.ae
SUMMARY:Puppy Yoga | April 25th @ 1.00pm | Mixed
DESCRIPTION:
URL:https://yoppy.ae/event/puppy-yoga-april-25th-1-00pm-mixed/
LOCATION:Herinox Studios\, Herinox Studios\, Dubai\, United Arab Emirates
CATEGORIES:Puppy Yoga
ATTACH;FMTTYPE=image/jpeg:https://yoppy.ae/wp-content/uploads/2025/05/1.jpg
END:VEVENT
BEGIN:VEVENT
DTSTART;TZID=Asia/Dubai:20260425T143000
DTEND;TZID=Asia/Dubai:20260425T153000
DTSTAMP:20260422T113320
CREATED:20260321T164014Z
LAST-MODIFIED:20260321T164014Z
UID:10000455-1777127400-1777131000@yoppy.ae
SUMMARY:Puppy Yoga | April 25th @ 2.30pm | Mixed
DESCRIPTION:
URL:https://yoppy.ae/event/puppy-yoga-april-25th-2-30pm-mixed/
LOCATION:Herinox Studios\, Herinox Studios\, Dubai\, United Arab Emirates
CATEGORIES:Puppy Yoga
ATTACH;FMTTYPE=image/jpeg:https://yoppy.ae/wp-content/uploads/2025/05/1.jpg
END:VEVENT
BEGIN:VEVENT
DTSTART;TZID=Asia/Dubai:20260503T103000
DTEND;TZID=Asia/Dubai:20260503T113000
DTSTAMP:20260422T113320
CREATED:20260420T120009Z
LAST-MODIFIED:20260420T120009Z
UID:10000456-1777804200-1777807800@yoppy.ae
SUMMARY:Puppy Yoga | May 3rd @ 10:30am | Ladies Only
DESCRIPTION:
URL:https://yoppy.ae/event/puppy-yoga-may-3rd-1030am-ladies-only/
LOCATION:Alura\, 1\, 17 - Villa 1 Al Meydan Rd - Al Quoz - Al Quoz 1\, Dubai\, United Arab Emirates
CATEGORIES:Puppy Yoga
ATTACH;FMTTYPE=image/jpeg:https://yoppy.ae/wp-content/uploads/2025/05/1.jpg
END:VEVENT
BEGIN:VEVENT
DTSTART;TZID=Asia/Dubai:20260503T120000
DTEND;TZID=Asia/Dubai:20260503T130000
DTSTAMP:20260422T113320
CREATED:20260420T120340Z
LAST-MODIFIED:20260420T120340Z
UID:10000457-1777809600-1777813200@yoppy.ae
SUMMARY:Puppy Yoga | May 3rd @ 12:00pm | Mixed
DESCRIPTION:
URL:https://yoppy.ae/event/puppy-yoga-may-3rd-1200pm-mixed/
LOCATION:Alura\, 1\, 17 - Villa 1 Al Meydan Rd - Al Quoz - Al Quoz 1\, Dubai\, United Arab Emirates
CATEGORIES:Puppy Yoga
ATTACH;FMTTYPE=image/jpeg:https://yoppy.ae/wp-content/uploads/2025/05/1.jpg
END:VEVENT
BEGIN:VEVENT
DTSTART;TZID=Asia/Dubai:20260503T133000
DTEND;TZID=Asia/Dubai:20260503T143000
DTSTAMP:20260422T113320
CREATED:20260420T120728Z
LAST-MODIFIED:20260420T120728Z
UID:10000458-1777815000-1777818600@yoppy.ae
SUMMARY:Puppy Yoga | May 3rd @ 1:30pm | Mixed
DESCRIPTION:
URL:https://yoppy.ae/event/puppy-yoga-may-3rd-130pm-mixed/
LOCATION:Alura\, 1\, 17 - Villa 1 Al Meydan Rd - Al Quoz - Al Quoz 1\, Dubai\, United Arab Emirates
CATEGORIES:Puppy Yoga
ATTACH;FMTTYPE=image/jpeg:https://yoppy.ae/wp-content/uploads/2025/05/1.jpg
END:VEVENT
BEGIN:VEVENT
DTSTART;TZID=Asia/Dubai:20260509T140000
DTEND;TZID=Asia/Dubai:20260509T150000
DTSTAMP:20260422T113320
CREATED:20260420T122502Z
LAST-MODIFIED:20260420T122502Z
UID:10000459-1778335200-1778338800@yoppy.ae
SUMMARY:Puppy Yoga | May 9th @ 2:00pm | Ladies Only
DESCRIPTION:
URL:https://yoppy.ae/event/puppy-yoga-may-9th-200pm-ladies-only/
LOCATION:Herinox Studios\, Herinox Studios\, Dubai\, United Arab Emirates
CATEGORIES:Puppy Yoga
ATTACH;FMTTYPE=image/jpeg:https://yoppy.ae/wp-content/uploads/2025/05/1.jpg
END:VEVENT
BEGIN:VEVENT
DTSTART;TZID=Asia/Dubai:20260509T153000
DTEND;TZID=Asia/Dubai:20260509T163000
DTSTAMP:20260422T113320
CREATED:20260420T122857Z
LAST-MODIFIED:20260420T122857Z
UID:10000460-1778340600-1778344200@yoppy.ae
SUMMARY:Puppy Yoga | May 9th @ 3:30pm | Mixed
DESCRIPTION:
URL:https://yoppy.ae/event/puppy-yoga-may-9th-330pm-mixed/
LOCATION:Herinox Studios\, Herinox Studios\, Dubai\, United Arab Emirates
CATEGORIES:Puppy Yoga
ATTACH;FMTTYPE=image/jpeg:https://yoppy.ae/wp-content/uploads/2025/05/1.jpg
END:VEVENT
BEGIN:VEVENT
DTSTART;TZID=Asia/Dubai:20260509T170000
DTEND;TZID=Asia/Dubai:20260509T180000
DTSTAMP:20260422T113320
CREATED:20260420T123132Z
LAST-MODIFIED:20260420T123132Z
UID:10000461-1778346000-1778349600@yoppy.ae
SUMMARY:Puppy Yoga | May 9th @ 5:00pm | Mixed
DESCRIPTION:
URL:https://yoppy.ae/event/puppy-yoga-may-9th-500pm-mixed/
LOCATION:Herinox Studios\, Herinox Studios\, Dubai\, United Arab Emirates
CATEGORIES:Puppy Yoga
ATTACH;FMTTYPE=image/jpeg:https://yoppy.ae/wp-content/uploads/2025/05/1.jpg
END:VEVENT
BEGIN:VEVENT
DTSTART;TZID=Asia/Dubai:20260517T103000
DTEND;TZID=Asia/Dubai:20260517T113000
DTSTAMP:20260422T113320
CREATED:20260421T111837Z
LAST-MODIFIED:20260421T111837Z
UID:10000462-1779013800-1779017400@yoppy.ae
SUMMARY:Puppy Yoga | May 17th @ 10:30am | Ladies Only
DESCRIPTION:
URL:https://yoppy.ae/event/puppy-yoga-may-17th-1030am-ladies-only/
LOCATION:Herinox Studios\, Herinox Studios\, Dubai\, United Arab Emirates
CATEGORIES:Puppy Yoga
ATTACH;FMTTYPE=image/jpeg:https://yoppy.ae/wp-content/uploads/2025/05/1.jpg
END:VEVENT
BEGIN:VEVENT
DTSTART;TZID=Asia/Dubai:20260517T120000
DTEND;TZID=Asia/Dubai:20260517T130000
DTSTAMP:20260422T113320
CREATED:20260421T112110Z
LAST-MODIFIED:20260421T112501Z
UID:10000463-1779019200-1779022800@yoppy.ae
SUMMARY:Puppy Yoga | May 17th @ 12:00pm | Mixed
DESCRIPTION:
URL:https://yoppy.ae/event/puppy-yoga-may-17th-1200pm-mixed/
LOCATION:Herinox Studios\, Herinox Studios\, Dubai\, United Arab Emirates
CATEGORIES:Puppy Yoga
ATTACH;FMTTYPE=image/jpeg:https://yoppy.ae/wp-content/uploads/2025/05/1.jpg
END:VEVENT
BEGIN:VEVENT
DTSTART;TZID=Asia/Dubai:20260517T133000
DTEND;TZID=Asia/Dubai:20260517T143000
DTSTAMP:20260422T113320
CREATED:20260421T112349Z
LAST-MODIFIED:20260421T112349Z
UID:10000464-1779024600-1779028200@yoppy.ae
SUMMARY:Puppy Yoga | May 17th @ 1:30pm | Mixed
DESCRIPTION:
URL:https://yoppy.ae/event/puppy-yoga-may-17th-130pm-mixed/
LOCATION:Herinox Studios\, Herinox Studios\, Dubai\, United Arab Emirates
CATEGORIES:Puppy Yoga
ATTACH;FMTTYPE=image/jpeg:https://yoppy.ae/wp-content/uploads/2025/05/1.jpg
END:VEVENT
BEGIN:VEVENT
DTSTART;TZID=Asia/Dubai:20260523T113000
DTEND;TZID=Asia/Dubai:20260523T123000
DTSTAMP:20260422T113320
CREATED:20260421T112826Z
LAST-MODIFIED:20260421T112826Z
UID:10000465-1779535800-1779539400@yoppy.ae
SUMMARY:Puppy Yoga | May 23rd @ 11:30am | Ladies Only
DESCRIPTION:
URL:https://yoppy.ae/event/puppy-yoga-may-23rd-1130am-ladies-only/
LOCATION:Herinox Studios\, Herinox Studios\, Dubai\, United Arab Emirates
CATEGORIES:Puppy Yoga
ATTACH;FMTTYPE=image/jpeg:https://yoppy.ae/wp-content/uploads/2025/05/1.jpg
END:VEVENT
BEGIN:VEVENT
DTSTART;TZID=Asia/Dubai:20260523T130000
DTEND;TZID=Asia/Dubai:20260523T140000
DTSTAMP:20260422T113320
CREATED:20260421T113146Z
LAST-MODIFIED:20260421T113146Z
UID:10000466-1779541200-1779544800@yoppy.ae
SUMMARY:Puppy Yoga | May 23rd @ 1:00pm | Mixed
DESCRIPTION:
URL:https://yoppy.ae/event/puppy-yoga-may-23rd-100pm-mixed/
LOCATION:Herinox Studios\, Herinox Studios\, Dubai\, United Arab Emirates
CATEGORIES:Rescue Dog Yoga
ATTACH;FMTTYPE=image/jpeg:https://yoppy.ae/wp-content/uploads/2025/05/1.jpg
END:VEVENT
BEGIN:VEVENT
DTSTART;TZID=Asia/Dubai:20260523T143000
DTEND;TZID=Asia/Dubai:20260523T153000
DTSTAMP:20260422T113320
CREATED:20260421T113407Z
LAST-MODIFIED:20260421T113407Z
UID:10000467-1779546600-1779550200@yoppy.ae
SUMMARY:Puppy Yoga | May 23rd @ 2:30pm | Mixed
DESCRIPTION:
URL:https://yoppy.ae/event/puppy-yoga-may-23rd-230pm-mixed/
LOCATION:Herinox Studios\, Herinox Studios\, Dubai\, United Arab Emirates
CATEGORIES:Puppy Yoga
ATTACH;FMTTYPE=image/jpeg:https://yoppy.ae/wp-content/uploads/2025/05/1.jpg
END:VEVENT
BEGIN:VEVENT
DTSTART;TZID=Asia/Dubai:20260531T103000
DTEND;TZID=Asia/Dubai:20260531T113000
DTSTAMP:20260422T113320
CREATED:20260421T113650Z
LAST-MODIFIED:20260421T113650Z
UID:10000468-1780223400-1780227000@yoppy.ae
SUMMARY:Puppy Yoga | May 31st @ 10:30am | Ladies Only
DESCRIPTION:
URL:https://yoppy.ae/event/puppy-yoga-may-31st-1030am-ladies-only/
LOCATION:Herinox Studios\, Herinox Studios\, Dubai\, United Arab Emirates
CATEGORIES:Puppy Yoga
ATTACH;FMTTYPE=image/jpeg:https://yoppy.ae/wp-content/uploads/2025/05/1.jpg
END:VEVENT
BEGIN:VEVENT
DTSTART;TZID=Asia/Dubai:20260531T120000
DTEND;TZID=Asia/Dubai:20260531T130000
DTSTAMP:20260422T113320
CREATED:20260421T113944Z
LAST-MODIFIED:20260421T113944Z
UID:10000469-1780228800-1780232400@yoppy.ae
SUMMARY:Puppy Yoga | May 31st @ 12:00pm | Mixed
DESCRIPTION:
URL:https://yoppy.ae/event/puppy-yoga-may-31st-1200pm-mixed/
LOCATION:Herinox Studios\, Herinox Studios\, Dubai\, United Arab Emirates
CATEGORIES:Puppy Yoga
ATTACH;FMTTYPE=image/jpeg:https://yoppy.ae/wp-content/uploads/2025/05/1.jpg
END:VEVENT
BEGIN:VEVENT
DTSTART;TZID=Asia/Dubai:20260531T133000
DTEND;TZID=Asia/Dubai:20260531T143000
DTSTAMP:20260422T113320
CREATED:20260421T114233Z
LAST-MODIFIED:20260421T114233Z
UID:10000470-1780234200-1780237800@yoppy.ae
SUMMARY:Puppy Yoga | May 31st @ 1:30pm | Mixed
DESCRIPTION:
URL:https://yoppy.ae/event/puppy-yoga-may-31st-130pm-mixed/
LOCATION:Herinox Studios\, Herinox Studios\, Dubai\, United Arab Emirates
CATEGORIES:Puppy Yoga
ATTACH;FMTTYPE=image/jpeg:https://yoppy.ae/wp-content/uploads/2025/05/1.jpg
END:VEVENT
END:VCALENDAR